BEGIN:VCALENDAR
VERSION:2.0
PRODID:-//My Blog - ECPv5.16.4//NONSGML v1.0//EN
CALSCALE:GREGORIAN
METHOD:PUBLISH
X-WR-CALNAME:My Blog
X-ORIGINAL-URL:https://shalompcco.dev.mindcubetech.com
X-WR-CALDESC:Events for My Blog
REFRESH-INTERVAL;VALUE=DURATION:PT1H
X-Robots-Tag:noindex
X-PUBLISHED-TTL:PT1H
BEGIN:VTIMEZONE
TZID:UTC
BEGIN:STANDARD
TZOFFSETFROM:+0000
TZOFFSETTO:+0000
TZNAME:UTC
DTSTART:20220101T000000
END:STANDARD
END:VTIMEZONE
BEGIN:VEVENT
DTSTART;TZID=UTC:20220901T200000
DTEND;TZID=UTC:20220901T233000
DTSTAMP:20260422T112806
CREATED:20220819T173841Z
LAST-MODIFIED:20220821T052910Z
UID:490-1662062400-1662075000@shalompcco.dev.mindcubetech.com
SUMMARY:Rock Concert
DESCRIPTION:Hey\, Luke! May the Force be with you. Look\, I ain’t in this for your revolution\, and I’m not in it for you\, Princess. I expect to be well paid. I’m in it for the money. Ye-ha! What good is a reward if you ain’t around to use it? Besides\, attacking that battle station ain’t my idea of courage. It’s more like…suicide. Hey\, Luke! May the Force be with you. But with the blast shield down\, I can’t even see! How am I supposed to fight?
URL:https://shalompcco.dev.mindcubetech.com/event/rock-concert/
CATEGORIES:Nightlife
ATTACH;FMTTYPE=image/jpeg:https://shalompcco.dev.mindcubetech.com/wp-content/uploads/2022/08/testimonials.jpg
END:VEVENT
BEGIN:VEVENT
DTSTART;TZID=UTC:20220802T200000
DTEND;TZID=UTC:20220803T010000
DTSTAMP:20260422T112806
CREATED:20220819T173841Z
LAST-MODIFIED:20220819T173841Z
UID:491-1659470400-1659488400@shalompcco.dev.mindcubetech.com
SUMMARY:Late Night Party
DESCRIPTION:Well\, I got better. Ah\, now we see the violence inherent in the system! The swallow may fly south with the sun\, and the house martin or the plover may seek warmer climes in winter\, yet these are not strangers to our land. It’s only a model. It’s only a model.
URL:https://shalompcco.dev.mindcubetech.com/event/late-night-party/
CATEGORIES:Nightlife,Party
END:VEVENT
END:VCALENDAR